BEGIN:VCALENDAR
VERSION:2.0
PRODID:-//TYPO3/NONSGML Calendarize//EN


BEGIN:VEVENT
UID:calendarize-biophot-industrijas-diena-2026
DTSTAMP:20251125T115841Z

DTSTART:20260126T080000Z
DTEND:20260125T220000Z
    
SUMMARY:“BioPhoT” Industrijas diena 2026
DESCRIPTION:Biomedicīnas\, medicīnas tehnoloģiju\, farmācijas\, fotonikas\, viedo materiālu\, tehnoloģiju un inženiersistēmu uzņēmumus\, nozaru asociācijas un klasterus\, akadēmisko un pētniecības organizāciju pārstāvjus\, politikas veidotājus\, investorus un inovāciju atbalsta organizācijas aicinām uz “BioPhoT” Industrijas dienu\, kas notiks 2026. gada 26. janvārī Latvijas Universitātes Zinātņu mājā!\nPasākuma mērķis ir veicināt ciešāku sadarbību starp zinātni un industriju\, stiprinot “BioPhoT” tematiskās jomas un veidojot labvēlīgu vidi jaunu sadarbības projektu\, tehnoloģisku risinājumu un inovatīvu ideju attīstībai. Tā būs iespēja gan satikt jomas profesionāļus\, gan iepazīt aktuālos pētījumus\, risinājumus un sadarbības iespējas.\nVairāk par pasākumu un reģistrācija\n\nwww.biophot.lv
X-ALT-DESC;FMTTYPE=text/html:<p class="text-justify">Biomedicīnas\, medicīnas tehnoloģiju\, farmācijas\, fotonikas\, viedo materiālu\, tehnoloģiju un inženiersistēmu uzņēmumus\, nozaru asociācijas un klasterus\, akadēmisko un pētniecības organizāciju pārstāvjus\, politikas veidotājus\, investorus un inovāciju atbalsta organizācijas <strong>aicinām uz “BioPhoT” Industrijas dienu\, kas notiks 2026. gada 26. janvārī Latvijas Universitātes Zinātņu mājā!</strong></p>\n<p class="text-justify">Pasākuma mērķis ir veicināt ciešāku sadarbību starp zinātni un industriju\, stiprinot “BioPhoT” tematiskās jomas un veidojot labvēlīgu vidi jaunu sadarbības projektu\, tehnoloģisku risinājumu un inovatīvu ideju attīstībai. Tā būs iespēja gan satikt jomas profesionāļus\, gan iepazīt aktuālos pētījumus\, risinājumus un sadarbības iespējas.</p>\n<p class="text-justify"><a href="https://biophot.lv/event/biophot-industrijas-diena-2026/" target="_blank" rel="noreferrer"><strong>Vairāk par pasākumu un reģistrācija</strong></a></p>\n<hr />\n<p class="text-justify"><a href="http://www.biophot.lv/" title="BioPhoT" target="_blank" rel="noreferrer">www.biophot.lv</a></p>
LOCATION:LU Zinātņu māja\, Jelgavas iela 3
END:VEVENT

END:VCALENDAR