BEGIN:VCALENDAR
VERSION:2.0
PRODID:-//TYPO3/NONSGML Calendarize//EN


BEGIN:VEVENT
UID:calendarize-international-conference-on-quantum-photonics-development-in-the-baltic-region
DTSTAMP:20260106T124905Z

DTSTART:20260211T063000Z
DTEND:20260213T140000Z
    
SUMMARY:International Conference on Quantum Photonics Development in the Baltic Region
DESCRIPTION:INTERNATIONAL CONFERENCE ON QUANTUM PHOTONICS DEVELOPMENT IN THE BALTIC REGION\nWe invite scientists and researchers in quantum photonics to participate in an international conference that brings together experts from across Europe and beyond to share research\, ideas\, and emerging technologies in this field.\nFebruary 11–13\, 2026Riga\, RTU Science and Innovation Centre\, “The Moon”\nKEY TOPICS include quantum optics\, integrated quantum photonics\, communication and networks\, quantum computing\, sensing\, and metrology.\nAbstract submission deadline: January 13 Participation is free of charge. Confirmations will be sent by January 20.\n\nThe conference is organized within the ToEQPL project\, which aims to develop a roadmap toward establishing a Centre of Excellence in Quantum Photonics in Latvia.\nWe look forward to welcoming the international quantum photonics community to Riga!\nMore information and application
X-ALT-DESC;FMTTYPE=text/html:<p><strong>INTERNATIONAL CONFERENCE ON QUANTUM PHOTONICS DEVELOPMENT IN THE BALTIC REGION</strong></p>\n<p>We invite scientists and researchers in quantum photonics to participate in an international conference that brings together experts from across Europe and beyond to share research\, ideas\, and emerging technologies in this field.</p>\n<ul><li><strong>February 11–13\, 2026</strong></li><li><strong>Riga\, RTU Science and Innovation Centre\, “The Moon”</strong></li></ul>\n<p><strong>KEY TOPICS</strong> include quantum optics\, integrated quantum photonics\, communication and networks\, quantum computing\, sensing\, and metrology.</p>\n<p>Abstract submission deadline: January 13&nbsp\;<br /><strong>Participation is free of charge.</strong> Confirmations will be sent by January 20.</p>\n<hr />\n<p>The conference is organized within the <a href="https://toeqpl.eu/" target="_blank" title="ToEQPL project">ToEQPL project</a>\, which aims to develop a roadmap toward establishing a Centre of Excellence in Quantum Photonics in Latvia.</p>\n<p>We look forward to welcoming the international quantum photonics community to Riga!</p>\n<p><a href="https://toeqpl.eu/conference/" target="_blank"><strong>More information and application</strong></a></p>
LOCATION:RTU Science and Innovation Centre\, “The Moon”
END:VEVENT

END:VCALENDAR